BEGIN:VCALENDAR
VERSION:2.0
PRODID:-//Transfer Center - ECPv6.15.20//NONSGML v1.0//EN
CALSCALE:GREGORIAN
METHOD:PUBLISH
X-WR-CALNAME:Transfer Center
X-ORIGINAL-URL:https://transfer.fullcoll.edu
X-WR-CALDESC:Events for Transfer Center
REFRESH-INTERVAL;VALUE=DURATION:PT1H
X-Robots-Tag:noindex
X-PUBLISHED-TTL:PT1H
BEGIN:VTIMEZONE
TZID:America/Los_Angeles
BEGIN:DAYLIGHT
TZOFFSETFROM:-0800
TZOFFSETTO:-0700
TZNAME:PDT
DTSTART:20250309T100000
END:DAYLIGHT
BEGIN:STANDARD
TZOFFSETFROM:-0700
TZOFFSETTO:-0800
TZNAME:PST
DTSTART:20251102T090000
END:STANDARD
BEGIN:DAYLIGHT
TZOFFSETFROM:-0800
TZOFFSETTO:-0700
TZNAME:PDT
DTSTART:20260308T100000
END:DAYLIGHT
BEGIN:STANDARD
TZOFFSETFROM:-0700
TZOFFSETTO:-0800
TZNAME:PST
DTSTART:20261101T090000
END:STANDARD
BEGIN:DAYLIGHT
TZOFFSETFROM:-0800
TZOFFSETTO:-0700
TZNAME:PDT
DTSTART:20270314T100000
END:DAYLIGHT
BEGIN:STANDARD
TZOFFSETFROM:-0700
TZOFFSETTO:-0800
TZNAME:PST
DTSTART:20271107T090000
END:STANDARD
END:VTIMEZONE
BEGIN:VEVENT
DTSTART;TZID=America/Los_Angeles:20260423T093000
DTEND;TZID=America/Los_Angeles:20260423T110000
DTSTAMP:20260423T012058
CREATED:20260413T234754Z
LAST-MODIFIED:20260413T234754Z
UID:30361-1776936600-1776942000@transfer.fullcoll.edu
SUMMARY:Falmouth University\, United Kingdom\, Gaming Department Tabling
DESCRIPTION:A representative from Falmouth University\, United Kingdom\, Gaming Department\, will be tabling in front of the FC Transfer Center.  This is a great opportunity to study abroad and earn a bachelor’s degree in gaming.  Stop by if you have any questions for them!
URL:https://transfer.fullcoll.edu/calendar/falmouth-university-united-kingdom-gaming-department-tabling/
CATEGORIES:University Services
END:VEVENT
BEGIN:VEVENT
DTSTART;TZID=America/Los_Angeles:20260423T133000
DTEND;TZID=America/Los_Angeles:20260423T150000
DTSTAMP:20260423T012058
CREATED:20260206T213831Z
LAST-MODIFIED:20260206T213831Z
UID:29535-1776951000-1776956400@transfer.fullcoll.edu
SUMMARY:Azusa Pacific University Tabling
DESCRIPTION:A representative from Azusa Pacific University will be tabling outside the Transfer Center Thursday\, April 23\, 2026 from 1:30PM-3:00PM.  Feel free to stop by if you have any questions for them!
URL:https://transfer.fullcoll.edu/calendar/azusa-pacific-university-tabling-5/
LOCATION:Transfer Center\, Cruz Reynoso Hall\, Room 212
END:VEVENT
END:VCALENDAR