BEGIN:VCALENDAR
VERSION:2.0
PRODID:-//Transfer Center - ECPv6.15.20//NONSGML v1.0//EN
CALSCALE:GREGORIAN
METHOD:PUBLISH
X-ORIGINAL-URL:https://transfer.fullcoll.edu
X-WR-CALDESC:Events for Transfer Center
REFRESH-INTERVAL;VALUE=DURATION:PT1H
X-Robots-Tag:noindex
X-PUBLISHED-TTL:PT1H
BEGIN:VTIMEZONE
TZID:America/Los_Angeles
BEGIN:DAYLIGHT
TZOFFSETFROM:-0800
TZOFFSETTO:-0700
TZNAME:PDT
DTSTART:20250309T100000
END:DAYLIGHT
BEGIN:STANDARD
TZOFFSETFROM:-0700
TZOFFSETTO:-0800
TZNAME:PST
DTSTART:20251102T090000
END:STANDARD
BEGIN:DAYLIGHT
TZOFFSETFROM:-0800
TZOFFSETTO:-0700
TZNAME:PDT
DTSTART:20260308T100000
END:DAYLIGHT
BEGIN:STANDARD
TZOFFSETFROM:-0700
TZOFFSETTO:-0800
TZNAME:PST
DTSTART:20261101T090000
END:STANDARD
BEGIN:DAYLIGHT
TZOFFSETFROM:-0800
TZOFFSETTO:-0700
TZNAME:PDT
DTSTART:20270314T100000
END:DAYLIGHT
BEGIN:STANDARD
TZOFFSETFROM:-0700
TZOFFSETTO:-0800
TZNAME:PST
DTSTART:20271107T090000
END:STANDARD
END:VTIMEZONE
BEGIN:VEVENT
DTSTART;TZID=America/Los_Angeles:20260106T143000
DTEND;TZID=America/Los_Angeles:20260106T153000
DTSTAMP:20260424T094606
CREATED:20251114T182000Z
LAST-MODIFIED:20251114T183543Z
UID:28263-1767709800-1767713400@transfer.fullcoll.edu
SUMMARY:Fall 2026 Transfers: After You Apply-The Next Steps (Webinar)
DESCRIPTION:Students who have applied to the Cal State and/or UC for a fall transfer will be required to complete systemwide academic updates and in some cases\, campus-specific supplementals in the month of January.\nOur “Part 3: After You Apply – The Next Steps!” will provide you with an overview of these critical updates that the universities will use to determine your admissions!\nTopics Include: \n\nUniversity Acknowledgement notices\nSetting up University Portals\nCSU Long Beach Supplemental\nSubmitting Documents\nNext Steps & Deadlines​\n\nTo RSVP [Click Here]
URL:https://transfer.fullcoll.edu/calendar/fall-2026-transfers-after-you-apply-the-next-steps-webinar/
CATEGORIES:Workshops
END:VEVENT
END:VCALENDAR