BEGIN:VCALENDAR
VERSION:2.0
PRODID:-//Transfer Center - ECPv6.15.20//NONSGML v1.0//EN
CALSCALE:GREGORIAN
METHOD:PUBLISH
X-WR-CALNAME:Transfer Center
X-ORIGINAL-URL:https://transfer.fullcoll.edu
X-WR-CALDESC:Events for Transfer Center
REFRESH-INTERVAL;VALUE=DURATION:PT1H
X-Robots-Tag:noindex
X-PUBLISHED-TTL:PT1H
BEGIN:VTIMEZONE
TZID:America/Los_Angeles
BEGIN:DAYLIGHT
TZOFFSETFROM:-0800
TZOFFSETTO:-0700
TZNAME:PDT
DTSTART:20250309T100000
END:DAYLIGHT
BEGIN:STANDARD
TZOFFSETFROM:-0700
TZOFFSETTO:-0800
TZNAME:PST
DTSTART:20251102T090000
END:STANDARD
BEGIN:DAYLIGHT
TZOFFSETFROM:-0800
TZOFFSETTO:-0700
TZNAME:PDT
DTSTART:20260308T100000
END:DAYLIGHT
BEGIN:STANDARD
TZOFFSETFROM:-0700
TZOFFSETTO:-0800
TZNAME:PST
DTSTART:20261101T090000
END:STANDARD
BEGIN:DAYLIGHT
TZOFFSETFROM:-0800
TZOFFSETTO:-0700
TZNAME:PDT
DTSTART:20270314T100000
END:DAYLIGHT
BEGIN:STANDARD
TZOFFSETFROM:-0700
TZOFFSETTO:-0800
TZNAME:PST
DTSTART:20271107T090000
END:STANDARD
END:VTIMEZONE
BEGIN:VEVENT
DTSTART;VALUE=DATE:20260101
DTEND;VALUE=DATE:20260102
DTSTAMP:20260424T093703
CREATED:20251113T200652Z
LAST-MODIFIED:20251113T201051Z
UID:28222-1767225600-1767311999@transfer.fullcoll.edu
SUMMARY:Fall 2026 Transfers: Cal State University Academic History Updates
DESCRIPTION:If you have applied to the Cal State University for a fall 2026 transfer\, all transfer students must update their application with: \n\nThe grades you received for your previous terms (e.g.\, Fall classes for the Fall before you plan to start at CSU or Spring classes for the Spring before you plan to start at CSU).\nThe courses you are enrolled in or plan to take (e.g.\, summer and fall classes).\n\nYou must provide this information before you expect to enroll. These updates ensure that CSU campuses have your most current academic information. Updates are available within the following timeframe: January 1\, 2026 – January 31\, 2026.  \nFor more information or assistance with your Cal State Apply Academic History Update\, visit or contact the FC Transfer Center.
URL:https://transfer.fullcoll.edu/calendar/fall-2026-transfers-cal-state-university-academic-history-updates/
CATEGORIES:Important Notices
END:VEVENT
END:VCALENDAR