BEGIN:VCALENDAR
VERSION:2.0
PRODID:-//Transfer Center - ECPv6.15.20//NONSGML v1.0//EN
CALSCALE:GREGORIAN
METHOD:PUBLISH
X-ORIGINAL-URL:https://transfer.fullcoll.edu
X-WR-CALDESC:Events for Transfer Center
REFRESH-INTERVAL;VALUE=DURATION:PT1H
X-Robots-Tag:noindex
X-PUBLISHED-TTL:PT1H
BEGIN:VTIMEZONE
TZID:America/Los_Angeles
BEGIN:DAYLIGHT
TZOFFSETFROM:-0800
TZOFFSETTO:-0700
TZNAME:PDT
DTSTART:20240310T100000
END:DAYLIGHT
BEGIN:STANDARD
TZOFFSETFROM:-0700
TZOFFSETTO:-0800
TZNAME:PST
DTSTART:20241103T090000
END:STANDARD
BEGIN:DAYLIGHT
TZOFFSETFROM:-0800
TZOFFSETTO:-0700
TZNAME:PDT
DTSTART:20250309T100000
END:DAYLIGHT
BEGIN:STANDARD
TZOFFSETFROM:-0700
TZOFFSETTO:-0800
TZNAME:PST
DTSTART:20251102T090000
END:STANDARD
BEGIN:DAYLIGHT
TZOFFSETFROM:-0800
TZOFFSETTO:-0700
TZNAME:PDT
DTSTART:20260308T100000
END:DAYLIGHT
BEGIN:STANDARD
TZOFFSETFROM:-0700
TZOFFSETTO:-0800
TZNAME:PST
DTSTART:20261101T090000
END:STANDARD
END:VTIMEZONE
BEGIN:VEVENT
DTSTART;VALUE=DATE:20251203
DTEND;VALUE=DATE:20251204
DTSTAMP:20260424T110726
CREATED:20251119T165713Z
LAST-MODIFIED:20251119T165713Z
UID:28362-1764720000-1764806399@transfer.fullcoll.edu
SUMMARY:Transfer Center: Office Closed 11am-1pm (Today)
DESCRIPTION:The FC Transfer Center will be closed from 11am to 1pm on Wednesday\, December 3\, 2025.\nWe will be open for services from 8am-11am and 1-5pm.
URL:https://transfer.fullcoll.edu/calendar/transfer-center-office-closed-11am-1pm-today/
CATEGORIES:Important Notices
END:VEVENT
BEGIN:VEVENT
DTSTART;TZID=America/Los_Angeles:20251203T143000
DTEND;TZID=America/Los_Angeles:20251203T153000
DTSTAMP:20260424T110726
CREATED:20250928T143318Z
LAST-MODIFIED:20250928T143318Z
UID:27362-1764772200-1764775800@transfer.fullcoll.edu
SUMMARY:Applying to the Private Colleges [Webinar]
DESCRIPTION:If you intend to apply to a private college\, the FC Transfer Center has created this workshop to assist you with the process!\nTopics include: \n\nThe Common Application\nThe Coalition Application\nAcademic Preparation\nTransferability of Courses\nLetters of Recommendation\nExtracurricular Activities\nand other tips!\n\nTo RSVP\, register [Here]
URL:https://transfer.fullcoll.edu/calendar/applying-to-the-private-colleges-webinar-2/
CATEGORIES:Workshops
END:VEVENT
END:VCALENDAR