BEGIN:VCALENDAR
VERSION:2.0
PRODID:-//Transfer Center - ECPv6.15.20//NONSGML v1.0//EN
CALSCALE:GREGORIAN
METHOD:PUBLISH
X-ORIGINAL-URL:https://transfer.fullcoll.edu
X-WR-CALDESC:Events for Transfer Center
REFRESH-INTERVAL;VALUE=DURATION:PT1H
X-Robots-Tag:noindex
X-PUBLISHED-TTL:PT1H
BEGIN:VTIMEZONE
TZID:America/Los_Angeles
BEGIN:DAYLIGHT
TZOFFSETFROM:-0800
TZOFFSETTO:-0700
TZNAME:PDT
DTSTART:20240310T100000
END:DAYLIGHT
BEGIN:STANDARD
TZOFFSETFROM:-0700
TZOFFSETTO:-0800
TZNAME:PST
DTSTART:20241103T090000
END:STANDARD
BEGIN:DAYLIGHT
TZOFFSETFROM:-0800
TZOFFSETTO:-0700
TZNAME:PDT
DTSTART:20250309T100000
END:DAYLIGHT
BEGIN:STANDARD
TZOFFSETFROM:-0700
TZOFFSETTO:-0800
TZNAME:PST
DTSTART:20251102T090000
END:STANDARD
BEGIN:DAYLIGHT
TZOFFSETFROM:-0800
TZOFFSETTO:-0700
TZNAME:PDT
DTSTART:20260308T100000
END:DAYLIGHT
BEGIN:STANDARD
TZOFFSETFROM:-0700
TZOFFSETTO:-0800
TZNAME:PST
DTSTART:20261101T090000
END:STANDARD
END:VTIMEZONE
BEGIN:VEVENT
DTSTART;VALUE=DATE:20251126
DTEND;VALUE=DATE:20251127
DTSTAMP:20260424T122402
CREATED:20251122T194543Z
LAST-MODIFIED:20251122T194543Z
UID:28418-1764115200-1764201599@transfer.fullcoll.edu
SUMMARY:Transfer Center: Virtual Drop-in Application Services (Only) Today!
DESCRIPTION:The Transfer Center will offer virtual drop-in application assistance (only) today (Wed. Nov. 26) as shown below: \n\nVIRTUAL drop-in application assistance offered 9:00am-11:45am.\n\nNote: The Transfer Center will be open for virtual services only on Wed. Nov. 26 from 8am to 12 noon. \nFor more information or to join our virtual drop-in\, please [Contact Us].
URL:https://transfer.fullcoll.edu/calendar/transfer-center-virtual-drop-in-application-services-only-today/
CATEGORIES:Workshops
END:VEVENT
BEGIN:VEVENT
DTSTART;TZID=America/Los_Angeles:20251126T080000
DTEND;TZID=America/Los_Angeles:20251126T120000
DTSTAMP:20260424T122402
CREATED:20250617T003644Z
LAST-MODIFIED:20251113T150529Z
UID:24463-1764144000-1764158400@transfer.fullcoll.edu
SUMMARY:Transfer Center Limited Hours
DESCRIPTION:The Transfer Center will be open from 8:00am to 12:00 pm for virtual services only.\nWe will close at 12 noon.
URL:https://transfer.fullcoll.edu/calendar/transfer-center-limited-hours-2/
CATEGORIES:Important Notices
END:VEVENT
END:VCALENDAR