BEGIN:VCALENDAR
VERSION:2.0
PRODID:-//Transfer Center - ECPv6.15.20//NONSGML v1.0//EN
CALSCALE:GREGORIAN
METHOD:PUBLISH
X-ORIGINAL-URL:https://transfer.fullcoll.edu
X-WR-CALDESC:Events for Transfer Center
REFRESH-INTERVAL;VALUE=DURATION:PT1H
X-Robots-Tag:noindex
X-PUBLISHED-TTL:PT1H
BEGIN:VTIMEZONE
TZID:America/Los_Angeles
BEGIN:DAYLIGHT
TZOFFSETFROM:-0800
TZOFFSETTO:-0700
TZNAME:PDT
DTSTART:20240310T100000
END:DAYLIGHT
BEGIN:STANDARD
TZOFFSETFROM:-0700
TZOFFSETTO:-0800
TZNAME:PST
DTSTART:20241103T090000
END:STANDARD
BEGIN:DAYLIGHT
TZOFFSETFROM:-0800
TZOFFSETTO:-0700
TZNAME:PDT
DTSTART:20250309T100000
END:DAYLIGHT
BEGIN:STANDARD
TZOFFSETFROM:-0700
TZOFFSETTO:-0800
TZNAME:PST
DTSTART:20251102T090000
END:STANDARD
BEGIN:DAYLIGHT
TZOFFSETFROM:-0800
TZOFFSETTO:-0700
TZNAME:PDT
DTSTART:20260308T100000
END:DAYLIGHT
BEGIN:STANDARD
TZOFFSETFROM:-0700
TZOFFSETTO:-0800
TZNAME:PST
DTSTART:20261101T090000
END:STANDARD
END:VTIMEZONE
BEGIN:VEVENT
DTSTART;TZID=America/Los_Angeles:20251117T100000
DTEND;TZID=America/Los_Angeles:20251117T160000
DTSTAMP:20260424T122315
CREATED:20250912T231927Z
LAST-MODIFIED:20250916T181556Z
UID:26673-1763373600-1763395200@transfer.fullcoll.edu
SUMMARY:UC Irvine on the Campus Today!
DESCRIPTION:The representative from UC Irvine’s Transfer Prep program will be in the FC Transfer Center to provide the following services today [November 17]: \n\nTabling in front of the Transfer Center from 10am to 11am\nMeeting with students in individual appointments from 11:00am to 4:00pm.\n\nBooking starts on Mon. Nov 3!\nTo Book your appointment\, please call or visit the FC Transfer Center!\n\n\n\nNote: UCI Transfer Prep representatives provide general information about UCI and its programs\, as well as assistance with the UC Application and Personal Insight Questions (PIQ). \nFC Transfer Center\nLocation: Reynoso Hall\, Room 212\nPhone: (714) 992-7086\nText:     (714) 710-8173\nEmail:  transfer@fullcoll.edu
URL:https://transfer.fullcoll.edu/calendar/uc-irvine-on-the-campus-today-2/
CATEGORIES:University Services
END:VEVENT
END:VCALENDAR