BEGIN:VCALENDAR
VERSION:2.0
PRODID:-//Transfer Center - ECPv6.15.20//NONSGML v1.0//EN
CALSCALE:GREGORIAN
METHOD:PUBLISH
X-WR-CALNAME:Transfer Center
X-ORIGINAL-URL:https://transfer.fullcoll.edu
X-WR-CALDESC:Events for Transfer Center
REFRESH-INTERVAL;VALUE=DURATION:PT1H
X-Robots-Tag:noindex
X-PUBLISHED-TTL:PT1H
BEGIN:VTIMEZONE
TZID:America/Los_Angeles
BEGIN:DAYLIGHT
TZOFFSETFROM:-0800
TZOFFSETTO:-0700
TZNAME:PDT
DTSTART:20240310T100000
END:DAYLIGHT
BEGIN:STANDARD
TZOFFSETFROM:-0700
TZOFFSETTO:-0800
TZNAME:PST
DTSTART:20241103T090000
END:STANDARD
BEGIN:DAYLIGHT
TZOFFSETFROM:-0800
TZOFFSETTO:-0700
TZNAME:PDT
DTSTART:20250309T100000
END:DAYLIGHT
BEGIN:STANDARD
TZOFFSETFROM:-0700
TZOFFSETTO:-0800
TZNAME:PST
DTSTART:20251102T090000
END:STANDARD
BEGIN:DAYLIGHT
TZOFFSETFROM:-0800
TZOFFSETTO:-0700
TZNAME:PDT
DTSTART:20260308T100000
END:DAYLIGHT
BEGIN:STANDARD
TZOFFSETFROM:-0700
TZOFFSETTO:-0800
TZNAME:PST
DTSTART:20261101T090000
END:STANDARD
END:VTIMEZONE
BEGIN:VEVENT
DTSTART;TZID=America/Los_Angeles:20251115T100000
DTEND;TZID=America/Los_Angeles:20251115T140000
DTSTAMP:20260424T122207
CREATED:20250617T001111Z
LAST-MODIFIED:20251110T155417Z
UID:24437-1763200800-1763215200@transfer.fullcoll.edu
SUMMARY:Fall 2026 Transfers: Transfer Center Open 10am-2pm for Drop-in Application Services!
DESCRIPTION:The Transfer Center will be opened on Saturday\, November 15\, from 10am-2pm to provide the following services: \n\nIn-Person drop-in application services (10am to 2pm)\n\nStudents are welcome to bring their own laptop or use our lab computers.\n\n\nVirtual drop-in application services (10:30am-1:30pm)\n\nVirtual drop-in application services are delivered in a group Zoom session (no individual assistance).\nTo RSVP and/or join our virtual application assistance [Click Here]\n\n\n\nPlease make note of the following regarding Saturday services: \n\nStudents should expect a high demand for these Saturday services and so\, your patience is greatly appreciated.\nThe following services are NOT offered on Saturdays:\n\nUC PIQ Essay Reviews\nCounseling Services\nThese particular services are by appointment only during our regular office hours. \n\n\n\nFor more information\, please contact the FC Transfer Center.
URL:https://transfer.fullcoll.edu/calendar/transfer-center-open-10am-5pm/
CATEGORIES:Important Notices
END:VEVENT
BEGIN:VEVENT
DTSTART;TZID=America/Los_Angeles:20251115T103000
DTEND;TZID=America/Los_Angeles:20251115T133000
DTSTAMP:20260424T122207
CREATED:20251110T154227Z
LAST-MODIFIED:20251110T154227Z
UID:28198-1763202600-1763213400@transfer.fullcoll.edu
SUMMARY:Fall 2026 Transfers: Virtual Application Assistance Saturday\, November 15
DESCRIPTION:The Transfer Center will offer VIRTUAL drop-in application assistance from 10:30am-1:30pm on Saturday\, November 15.\nIn-Person drop-in application assistance will be provided from 10am-2pm in the FC Transfer Center\, located in Reynoso Hall\, Room 212. \nTo RSVP for our virtual drop-in application assistance [Click Here]
URL:https://transfer.fullcoll.edu/calendar/fall-2026-transfers-virtual-application-assistance-saturday-november-15/
END:VEVENT
END:VCALENDAR