BEGIN:VCALENDAR
VERSION:2.0
PRODID:-//Transfer Center - ECPv6.15.20//NONSGML v1.0//EN
CALSCALE:GREGORIAN
METHOD:PUBLISH
X-WR-CALNAME:Transfer Center
X-ORIGINAL-URL:https://transfer.fullcoll.edu
X-WR-CALDESC:Events for Transfer Center
REFRESH-INTERVAL;VALUE=DURATION:PT1H
X-Robots-Tag:noindex
X-PUBLISHED-TTL:PT1H
BEGIN:VTIMEZONE
TZID:America/Los_Angeles
BEGIN:DAYLIGHT
TZOFFSETFROM:-0800
TZOFFSETTO:-0700
TZNAME:PDT
DTSTART:20240310T100000
END:DAYLIGHT
BEGIN:STANDARD
TZOFFSETFROM:-0700
TZOFFSETTO:-0800
TZNAME:PST
DTSTART:20241103T090000
END:STANDARD
BEGIN:DAYLIGHT
TZOFFSETFROM:-0800
TZOFFSETTO:-0700
TZNAME:PDT
DTSTART:20250309T100000
END:DAYLIGHT
BEGIN:STANDARD
TZOFFSETFROM:-0700
TZOFFSETTO:-0800
TZNAME:PST
DTSTART:20251102T090000
END:STANDARD
BEGIN:DAYLIGHT
TZOFFSETFROM:-0800
TZOFFSETTO:-0700
TZNAME:PDT
DTSTART:20260308T100000
END:DAYLIGHT
BEGIN:STANDARD
TZOFFSETFROM:-0700
TZOFFSETTO:-0800
TZNAME:PST
DTSTART:20261101T090000
END:STANDARD
END:VTIMEZONE
BEGIN:VEVENT
DTSTART;TZID=America/Los_Angeles:20251105T100000
DTEND;TZID=America/Los_Angeles:20251105T123000
DTSTAMP:20260424T122211
CREATED:20250827T174501Z
LAST-MODIFIED:20250827T174501Z
UID:26352-1762336800-1762345800@transfer.fullcoll.edu
SUMMARY:Whittier College on Campus Today!
DESCRIPTION:The representative from Whittier College will be at a table in front of the Transfer Center today [November 5] from 10:00am to 12:30pm.\nFor more information\, please visit or contact the FC Transfer Center\, (714) 992-7086\, Reynoso Hall\, Room 212.
URL:https://transfer.fullcoll.edu/calendar/whittier-college-on-campus-today-3/
CATEGORIES:University Services
END:VEVENT
BEGIN:VEVENT
DTSTART;TZID=America/Los_Angeles:20251105T100000
DTEND;TZID=America/Los_Angeles:20251105T143000
DTSTAMP:20260424T122211
CREATED:20250825T182612Z
LAST-MODIFIED:20250825T182954Z
UID:26342-1762336800-1762353000@transfer.fullcoll.edu
SUMMARY:UC Irvine on Campus Today!
DESCRIPTION:The representative from UC Irvine will be in the FC Transfer Center today (November 5) to provide the following services: \n\nIndividual Appointments from 10:00am to 12:00pm.\nUC Application Workshop from 1-2:30pm [In Person!]\n\nTo Book your Appointment and/or reserve your space in our workshop\, please contact or visit the: \nFC Transfer Center\nLocation: Reynoso Hall\, Room 212\nPhone: (714) 992-7086\nText:     (714) 710-8173\nEmail:  transfer@fullcoll.edu
URL:https://transfer.fullcoll.edu/calendar/uc-irvine-on-campus-today/
CATEGORIES:University Services
END:VEVENT
BEGIN:VEVENT
DTSTART;TZID=America/Los_Angeles:20251105T130000
DTEND;TZID=America/Los_Angeles:20251105T143000
DTSTAMP:20260424T122211
CREATED:20250928T134921Z
LAST-MODIFIED:20250928T140905Z
UID:27346-1762347600-1762353000@transfer.fullcoll.edu
SUMMARY:Fall 2026 Transfers: Applying to the UC & PIQ (In-Person workshop with UC Irvine!)
DESCRIPTION:The University of California Fall 2026 Application Filing Period is October 1 – December 1\, 2025.\nJoin us for Part 2: Applying to the UC & Personal Insight Questions (PIQ)! This is an in-person workshop\, and we will be joined by the representative from UC Irvine! Topics Include: \n\nDocuments required to complete the UC Application\nHow to Create your UC Account\nReporting your colleges and coursework accurately\nReporting special UC programs– if applicable\nRanking UCSD Colleges\nThe UC application Fee Waiver\nTips for writing your Personal Insight Questions\nNext Steps & Deadlines​\n\nTo RSVP\, register here!
URL:https://transfer.fullcoll.edu/calendar/fall-2026-transfers-applying-to-the-uc-piq-in-person-workshop-with-uc-irvine/
CATEGORIES:Workshops
END:VEVENT
END:VCALENDAR