BEGIN:VCALENDAR
VERSION:2.0
PRODID:-//Transfer Center - ECPv6.15.20//NONSGML v1.0//EN
CALSCALE:GREGORIAN
METHOD:PUBLISH
X-WR-CALNAME:Transfer Center
X-ORIGINAL-URL:https://transfer.fullcoll.edu
X-WR-CALDESC:Events for Transfer Center
REFRESH-INTERVAL;VALUE=DURATION:PT1H
X-Robots-Tag:noindex
X-PUBLISHED-TTL:PT1H
BEGIN:VTIMEZONE
TZID:America/Los_Angeles
BEGIN:DAYLIGHT
TZOFFSETFROM:-0800
TZOFFSETTO:-0700
TZNAME:PDT
DTSTART:20240310T100000
END:DAYLIGHT
BEGIN:STANDARD
TZOFFSETFROM:-0700
TZOFFSETTO:-0800
TZNAME:PST
DTSTART:20241103T090000
END:STANDARD
BEGIN:DAYLIGHT
TZOFFSETFROM:-0800
TZOFFSETTO:-0700
TZNAME:PDT
DTSTART:20250309T100000
END:DAYLIGHT
BEGIN:STANDARD
TZOFFSETFROM:-0700
TZOFFSETTO:-0800
TZNAME:PST
DTSTART:20251102T090000
END:STANDARD
BEGIN:DAYLIGHT
TZOFFSETFROM:-0800
TZOFFSETTO:-0700
TZNAME:PDT
DTSTART:20260308T100000
END:DAYLIGHT
BEGIN:STANDARD
TZOFFSETFROM:-0700
TZOFFSETTO:-0800
TZNAME:PST
DTSTART:20261101T090000
END:STANDARD
END:VTIMEZONE
BEGIN:VEVENT
DTSTART;TZID=America/Los_Angeles:20251027T103000
DTEND;TZID=America/Los_Angeles:20251027T150000
DTSTAMP:20260424T122056
CREATED:20250912T232046Z
LAST-MODIFIED:20250912T232657Z
UID:26675-1761561000-1761577200@transfer.fullcoll.edu
SUMMARY:UC Irvine on the Campus Today!
DESCRIPTION:The representative from UC Irvine’s Transfer Prep program will be in the FC Transfer Center to provide the following services today [October 27]: \n\nTabling in front of the Transfer Center from 10:30am to 11:30am\nMeeting with students in individual appointments from 11:30am to 3:00pm.\n\nBooking starts on Mon. Oct 13!\nTo Book your appointment\, please call or visit the FC Transfer Center!\n\n\n\nNote: UCI Transfer Prep representatives provide general information about UCI and its programs\, as well as assistance with the UC Application and Personal Insight Questions (PIQ). \nFC Transfer Center\nLocation: Reynoso Hall\, Room 212\nPhone: (714) 992-7086\nText:     (714) 710-8173\nEmail:  transfer@fullcoll.edu
URL:https://transfer.fullcoll.edu/calendar/uc-irvine-on-the-campus-today-3/
CATEGORIES:University Services
END:VEVENT
BEGIN:VEVENT
DTSTART;TZID=America/Los_Angeles:20251027T143000
DTEND;TZID=America/Los_Angeles:20251027T153000
DTSTAMP:20260424T122056
CREATED:20250904T195601Z
LAST-MODIFIED:20250904T195601Z
UID:26532-1761575400-1761579000@transfer.fullcoll.edu
SUMMARY:Applying to the Private Colleges [Webinar]
DESCRIPTION:If you intend to apply to a private college\, the FC Transfer Center has created this workshop to assist you with the process!\nTopics include: \n\nThe Common Application\nThe Coalition Application\nAcademic Preparation\nTransferability of Courses\nLetters of Recommendation\nExtracurricular Activities\nand other tips!\n\nTo RSVP\, register [Here]
URL:https://transfer.fullcoll.edu/calendar/applying-to-the-private-colleges-webinar/
CATEGORIES:Workshops
END:VEVENT
END:VCALENDAR