BEGIN:VCALENDAR
VERSION:2.0
PRODID:-//Transfer Center - ECPv6.15.20//NONSGML v1.0//EN
CALSCALE:GREGORIAN
METHOD:PUBLISH
X-ORIGINAL-URL:https://transfer.fullcoll.edu
X-WR-CALDESC:Events for Transfer Center
REFRESH-INTERVAL;VALUE=DURATION:PT1H
X-Robots-Tag:noindex
X-PUBLISHED-TTL:PT1H
BEGIN:VTIMEZONE
TZID:America/Los_Angeles
BEGIN:DAYLIGHT
TZOFFSETFROM:-0800
TZOFFSETTO:-0700
TZNAME:PDT
DTSTART:20240310T100000
END:DAYLIGHT
BEGIN:STANDARD
TZOFFSETFROM:-0700
TZOFFSETTO:-0800
TZNAME:PST
DTSTART:20241103T090000
END:STANDARD
BEGIN:DAYLIGHT
TZOFFSETFROM:-0800
TZOFFSETTO:-0700
TZNAME:PDT
DTSTART:20250309T100000
END:DAYLIGHT
BEGIN:STANDARD
TZOFFSETFROM:-0700
TZOFFSETTO:-0800
TZNAME:PST
DTSTART:20251102T090000
END:STANDARD
BEGIN:DAYLIGHT
TZOFFSETFROM:-0800
TZOFFSETTO:-0700
TZNAME:PDT
DTSTART:20260308T100000
END:DAYLIGHT
BEGIN:STANDARD
TZOFFSETFROM:-0700
TZOFFSETTO:-0800
TZNAME:PST
DTSTART:20261101T090000
END:STANDARD
END:VTIMEZONE
BEGIN:VEVENT
DTSTART;TZID=America/Los_Angeles:20251021T100000
DTEND;TZID=America/Los_Angeles:20251021T130000
DTSTAMP:20260424T133634
CREATED:20250616T224347Z
LAST-MODIFIED:20251013T202211Z
UID:24428-1761040800-1761051600@transfer.fullcoll.edu
SUMMARY:Fall College Fair!
DESCRIPTION:The FC Transfer Center is hosting the annual Fall Transfer Fair on Tuesday\, October 21\, 10:00am to 1:00pm on the campus quad.\nVisit our College Fair webpage for a list of all the colleges\, universities\, and Fullerton College departments that have RSVP!
URL:https://transfer.fullcoll.edu/calendar/fall-college-fair/
CATEGORIES:Fairs
END:VEVENT
BEGIN:VEVENT
DTSTART;TZID=America/Los_Angeles:20251021T140000
DTEND;TZID=America/Los_Angeles:20251021T150000
DTSTAMP:20260424T133634
CREATED:20250904T193454Z
LAST-MODIFIED:20250904T193454Z
UID:26527-1761055200-1761058800@transfer.fullcoll.edu
SUMMARY:USC Admissions Seminar [Hybrid]
DESCRIPTION:The FC Transfer Center will be hosting the representative from the University of Southern California who will be offering their USC Admissions Seminar.\nLearn more about one of Southern California’s most popular private colleges! Note: This is a hybrid workshop allowing students to join via Zoom or in-person! \nFor more information\, please contact the FC Transfer Center. \nFight on Trojans!  \nTo RSVP\, register [Here]
URL:https://transfer.fullcoll.edu/calendar/usc-admissions-seminar-hybrid/
CATEGORIES:University Services
END:VEVENT
END:VCALENDAR