BEGIN:VCALENDAR
VERSION:2.0
PRODID:-//Transfer Center - ECPv6.15.20//NONSGML v1.0//EN
CALSCALE:GREGORIAN
METHOD:PUBLISH
X-WR-CALNAME:Transfer Center
X-ORIGINAL-URL:https://transfer.fullcoll.edu
X-WR-CALDESC:Events for Transfer Center
REFRESH-INTERVAL;VALUE=DURATION:PT1H
X-Robots-Tag:noindex
X-PUBLISHED-TTL:PT1H
BEGIN:VTIMEZONE
TZID:America/Los_Angeles
BEGIN:DAYLIGHT
TZOFFSETFROM:-0800
TZOFFSETTO:-0700
TZNAME:PDT
DTSTART:20240310T100000
END:DAYLIGHT
BEGIN:STANDARD
TZOFFSETFROM:-0700
TZOFFSETTO:-0800
TZNAME:PST
DTSTART:20241103T090000
END:STANDARD
BEGIN:DAYLIGHT
TZOFFSETFROM:-0800
TZOFFSETTO:-0700
TZNAME:PDT
DTSTART:20250309T100000
END:DAYLIGHT
BEGIN:STANDARD
TZOFFSETFROM:-0700
TZOFFSETTO:-0800
TZNAME:PST
DTSTART:20251102T090000
END:STANDARD
BEGIN:DAYLIGHT
TZOFFSETFROM:-0800
TZOFFSETTO:-0700
TZNAME:PDT
DTSTART:20260308T100000
END:DAYLIGHT
BEGIN:STANDARD
TZOFFSETFROM:-0700
TZOFFSETTO:-0800
TZNAME:PST
DTSTART:20261101T090000
END:STANDARD
END:VTIMEZONE
BEGIN:VEVENT
DTSTART;TZID=America/Los_Angeles:20251015T110000
DTEND;TZID=America/Los_Angeles:20251015T130000
DTSTAMP:20260424T133742
CREATED:20250912T183532Z
LAST-MODIFIED:20250912T183532Z
UID:26652-1760526000-1760533200@transfer.fullcoll.edu
SUMMARY:Grand Canyon University on Campus Today!
DESCRIPTION:The representative from Grand Canyon University will be at a table in front of the Transfer Center today [October 15] from 11:00am to 1:00pm.\nFor more information\, please visit or contact the FC Transfer Center\, (714) 992-7086\, Reynoso Hall\, Room 212.
URL:https://transfer.fullcoll.edu/calendar/grand-canyon-university-on-campus-today-2/
CATEGORIES:University Services
END:VEVENT
END:VCALENDAR