BEGIN:VCALENDAR
VERSION:2.0
PRODID:-//Transfer Center - ECPv6.15.20//NONSGML v1.0//EN
CALSCALE:GREGORIAN
METHOD:PUBLISH
X-WR-CALNAME:Transfer Center
X-ORIGINAL-URL:https://transfer.fullcoll.edu
X-WR-CALDESC:Events for Transfer Center
REFRESH-INTERVAL;VALUE=DURATION:PT1H
X-Robots-Tag:noindex
X-PUBLISHED-TTL:PT1H
BEGIN:VTIMEZONE
TZID:America/Los_Angeles
BEGIN:DAYLIGHT
TZOFFSETFROM:-0800
TZOFFSETTO:-0700
TZNAME:PDT
DTSTART:20240310T100000
END:DAYLIGHT
BEGIN:STANDARD
TZOFFSETFROM:-0700
TZOFFSETTO:-0800
TZNAME:PST
DTSTART:20241103T090000
END:STANDARD
BEGIN:DAYLIGHT
TZOFFSETFROM:-0800
TZOFFSETTO:-0700
TZNAME:PDT
DTSTART:20250309T100000
END:DAYLIGHT
BEGIN:STANDARD
TZOFFSETFROM:-0700
TZOFFSETTO:-0800
TZNAME:PST
DTSTART:20251102T090000
END:STANDARD
BEGIN:DAYLIGHT
TZOFFSETFROM:-0800
TZOFFSETTO:-0700
TZNAME:PDT
DTSTART:20260308T100000
END:DAYLIGHT
BEGIN:STANDARD
TZOFFSETFROM:-0700
TZOFFSETTO:-0800
TZNAME:PST
DTSTART:20261101T090000
END:STANDARD
END:VTIMEZONE
BEGIN:VEVENT
DTSTART;VALUE=DATE:20251001
DTEND;VALUE=DATE:20251002
DTSTAMP:20260424T133309
CREATED:20250616T184119Z
LAST-MODIFIED:20250814T155718Z
UID:24383-1759276800-1759363199@transfer.fullcoll.edu
SUMMARY:Fall 2026 Transfers: The Cal State is Now Accepting Applications!
DESCRIPTION:If you intend to apply to the California State University for fall 2026\, you must apply between October 1 and December 1.\nConnect with the Transfer Center today for assistance and more information!\n(714) 992-7086\, transfer.fullcoll.edu
URL:https://transfer.fullcoll.edu/calendar/cal-state-application-now-open-for-fall-transfers/
CATEGORIES:Important Notices
END:VEVENT
BEGIN:VEVENT
DTSTART;VALUE=DATE:20251001
DTEND;VALUE=DATE:20251002
DTSTAMP:20260424T133309
CREATED:20250616T184441Z
LAST-MODIFIED:20250814T155836Z
UID:24388-1759276800-1759363199@transfer.fullcoll.edu
SUMMARY:Fall 2026 Transfers: The UC is Now Accepting Applications!
DESCRIPTION:If you intend to apply to the University of California for fall 2026\, you must apply between October 1 and December 1.\nConnect with the Transfer Center today for assistance and more information!\n(714) 992-7086\, transfer.fullcoll.edu
URL:https://transfer.fullcoll.edu/calendar/uc-now-accepting-applications-for-fall-2026/
CATEGORIES:Important Notices
END:VEVENT
BEGIN:VEVENT
DTSTART;VALUE=DATE:20251001
DTEND;VALUE=DATE:20251002
DTSTAMP:20260424T133309
CREATED:20250620T130639Z
LAST-MODIFIED:20250814T160005Z
UID:24563-1759276800-1759363199@transfer.fullcoll.edu
SUMMARY:Fall 2026 Transfers: The Jack Kent Cooke Undergraduate Transfer Scholarship Opens!
DESCRIPTION:The award\, which is last dollar funding after all institutional aid\, can provide as much as $55\,000 per year for two to three years to complete a bachelor’s degree at any accredited four-year undergraduate institution in the U.S. The Undergraduate Transfer Scholarship will be open October 1\, 2025 – January 7\, 2026 \nTo Apply or for more information: Our Scholarships – Jack Kent Cooke Foundation
URL:https://transfer.fullcoll.edu/calendar/jack-kent-cooke-undergraduate-transfer-scholarship-opens/
CATEGORIES:Important Notices
END:VEVENT
BEGIN:VEVENT
DTSTART;TZID=America/Los_Angeles:20251001T093000
DTEND;TZID=America/Los_Angeles:20251001T153000
DTSTAMP:20260424T133309
CREATED:20250823T191647Z
LAST-MODIFIED:20250827T224224Z
UID:26312-1759311000-1759332600@transfer.fullcoll.edu
SUMMARY:Cal State Fullerton on Campus Today!
DESCRIPTION:The representative from Cal State Fullerton will be in the FC Transfer Center to meet with students in individual appointments today (October 1) from 9:30am to 3:30pm. \nBooking starts on September 17!  Please visit (Bldg 200 Rm 212) or call us at (714) 992 7086 \nFC Transfer Center\nLocation: Reynoso Hall\, Room 212\nPhone: (714) 992-7086\nText:     (714) 710-8173\nEmail:  transfer@fullcoll.edu
URL:https://transfer.fullcoll.edu/calendar/cal-state-fullerton-on-campus-today-2/
CATEGORIES:University Services
END:VEVENT
END:VCALENDAR