BEGIN:VCALENDAR
VERSION:2.0
PRODID:-//Transfer Center - ECPv6.15.20//NONSGML v1.0//EN
CALSCALE:GREGORIAN
METHOD:PUBLISH
X-ORIGINAL-URL:https://transfer.fullcoll.edu
X-WR-CALDESC:Events for Transfer Center
REFRESH-INTERVAL;VALUE=DURATION:PT1H
X-Robots-Tag:noindex
X-PUBLISHED-TTL:PT1H
BEGIN:VTIMEZONE
TZID:America/Los_Angeles
BEGIN:DAYLIGHT
TZOFFSETFROM:-0800
TZOFFSETTO:-0700
TZNAME:PDT
DTSTART:20240310T100000
END:DAYLIGHT
BEGIN:STANDARD
TZOFFSETFROM:-0700
TZOFFSETTO:-0800
TZNAME:PST
DTSTART:20241103T090000
END:STANDARD
BEGIN:DAYLIGHT
TZOFFSETFROM:-0800
TZOFFSETTO:-0700
TZNAME:PDT
DTSTART:20250309T100000
END:DAYLIGHT
BEGIN:STANDARD
TZOFFSETFROM:-0700
TZOFFSETTO:-0800
TZNAME:PST
DTSTART:20251102T090000
END:STANDARD
BEGIN:DAYLIGHT
TZOFFSETFROM:-0800
TZOFFSETTO:-0700
TZNAME:PDT
DTSTART:20260308T100000
END:DAYLIGHT
BEGIN:STANDARD
TZOFFSETFROM:-0700
TZOFFSETTO:-0800
TZNAME:PST
DTSTART:20261101T090000
END:STANDARD
END:VTIMEZONE
BEGIN:VEVENT
DTSTART;VALUE=DATE:20250829
DTEND;VALUE=DATE:20250830
DTSTAMP:20260424T171237
CREATED:20250809T184439Z
LAST-MODIFIED:20250809T184551Z
UID:26164-1756425600-1756511999@transfer.fullcoll.edu
SUMMARY:Transfer Center Open on Fridays [8am-12pm]
DESCRIPTION:The Transfer Center will be opened for LIMITED in person and virtual services 8am to 12 noon on Fridays!\nFor more information\, please call our center at (714) 992-2086.\nHours are subject to change. 
URL:https://transfer.fullcoll.edu/calendar/transfer-center-open-on-fridays-8am-12pm/
CATEGORIES:Important Notices
END:VEVENT
BEGIN:VEVENT
DTSTART;TZID=America/Los_Angeles:20250829T090000
DTEND;TZID=America/Los_Angeles:20250829T113000
DTSTAMP:20260424T171237
CREATED:20250829T164452Z
LAST-MODIFIED:20250829T164452Z
UID:26405-1756458000-1756467000@transfer.fullcoll.edu
SUMMARY:Spring 2026 Transfers: Cal State Application Q&A [Virtual]
DESCRIPTION:The Transfer Center is offering virtual Question & Answer session for students applying to the Cal State for Spring 2026 from 9am to 11:30am..\nOur team will be available to demonstrate how to complete all sections of the application.\nThis is a virtual group session.\nTo Join\, please contact our Center at (714) 992-7086 or email us at transfer@fullcoll.edu.
URL:https://transfer.fullcoll.edu/calendar/spring-2026-transfers-cal-state-application-qa-virtual/
CATEGORIES:Workshops
END:VEVENT
BEGIN:VEVENT
DTSTART;TZID=America/Los_Angeles:20250829T090000
DTEND;TZID=America/Los_Angeles:20250829T220000
DTSTAMP:20260424T171237
CREATED:20250819T205545Z
LAST-MODIFIED:20250819T210011Z
UID:26274-1756458000-1756504800@transfer.fullcoll.edu
SUMMARY:Spring 2026 Transfers: Cal Poly Pomona On The Spot Admissions!
DESCRIPTION:The FC Transfer Center will host representatives from Cal Poly Pomona who will be offering on the spot admissions decisions for Fullerton College students (only) who are applying for spring 2026!\nRSVP IS REQUIRED!  \nTo register\, [Click Here]
URL:https://transfer.fullcoll.edu/calendar/spring-2026-transfers-cal-poly-pomona-on-the-spot-admissions/
END:VEVENT
END:VCALENDAR